BEGIN:VCALENDAR
VERSION:2.0
PRODID:-//The Loom Shed - ECPv6.15.20//NONSGML v1.0//EN
CALSCALE:GREGORIAN
METHOD:PUBLISH
X-ORIGINAL-URL:https://theloomshed.com
X-WR-CALDESC:Events for The Loom Shed
REFRESH-INTERVAL;VALUE=DURATION:PT1H
X-Robots-Tag:noindex
X-PUBLISHED-TTL:PT1H
BEGIN:VTIMEZONE
TZID:Europe/London
BEGIN:DAYLIGHT
TZOFFSETFROM:+0000
TZOFFSETTO:+0100
TZNAME:BST
DTSTART:20250330T010000
END:DAYLIGHT
BEGIN:STANDARD
TZOFFSETFROM:+0100
TZOFFSETTO:+0000
TZNAME:GMT
DTSTART:20251026T010000
END:STANDARD
BEGIN:DAYLIGHT
TZOFFSETFROM:+0000
TZOFFSETTO:+0100
TZNAME:BST
DTSTART:20260329T010000
END:DAYLIGHT
BEGIN:STANDARD
TZOFFSETFROM:+0100
TZOFFSETTO:+0000
TZNAME:GMT
DTSTART:20261025T010000
END:STANDARD
BEGIN:DAYLIGHT
TZOFFSETFROM:+0000
TZOFFSETTO:+0100
TZNAME:BST
DTSTART:20270328T010000
END:DAYLIGHT
BEGIN:STANDARD
TZOFFSETFROM:+0100
TZOFFSETTO:+0000
TZNAME:GMT
DTSTART:20271031T010000
END:STANDARD
END:VTIMEZONE
BEGIN:VEVENT
DTSTART;TZID=Europe/London:20260307T093000
DTEND;TZID=Europe/London:20260307T123000
DTSTAMP:20260419T183027
CREATED:20260205T144123Z
LAST-MODIFIED:20260205T144123Z
UID:10000115-1772875800-1772886600@theloomshed.com
SUMMARY:Saturday Social
DESCRIPTION:The Loom Shed – Social Saturday \nPop in – we’ve got the kettle on! ☕🧵 \nJoin us at The Loom Shed to find out what’s coming up this year and share in our future plans. Bring along your current project and chat with us about your work — we’ll be busy manning the kettle\, so we won’t be tutoring\, but we’d love to see your creations! \nYou’ll also have the chance to: \n\n\nSee what’s currently on the looms \n\n\nBrowse our inspiring textile library \n\n\nMeet the Loom Shed community and get a feel for our space \n\n\nIt’s the perfect opportunity to see what we’re up to on an open day and catch a glimpse of all things textiles. We can’t wait to welcome you!
URL:https://theloomshed.com/calendar-event/saturday-social/
LOCATION:The Loom Shed\, Sutton Barton\, Cullompton\, Devon\, EX15 1NF\, United Kingdom
CATEGORIES:Talks,Workshops
END:VEVENT
BEGIN:VEVENT
DTSTART;TZID=Europe/London:20260321T100000
DTEND;TZID=Europe/London:20260321T130000
DTSTAMP:20260419T183027
CREATED:20251219T143144Z
LAST-MODIFIED:20260319T111213Z
UID:10000113-1774087200-1774098000@theloomshed.com
SUMMARY:Introduction to Weaving with Louise Cottey
DESCRIPTION:Enjoy a day at a loom to beat the winter blues. \nHave you always wanted to try weaving? Or have you tried weaving with a frame or rigid heddle loom\, but never tried a four shaft loom? This is the perfect opportunity. Take a morning for yourself and relax with us at The Loom Shed. \nWe will set up the loom for you and give you all the resources and tuition you need to explore the relationship between colour\, texture and structure in woven textiles. Learn the tricks of the trade to make a fabric that feels nice and doesn’t pull in at the sides. Do be warned though\, this may leave you wanting to weave more – we certain hope so! \nFull tuition\, equipment\, and yarn will be provided with plenty of tea\, coffee and cake. \n  \n 
URL:https://theloomshed.com/calendar-event/introduction-to-weaving-with-louise-cottey/
LOCATION:The Loom Shed\, Sutton Barton\, Cullompton\, Devon\, EX15 1NF\, United Kingdom
CATEGORIES:Workshops
END:VEVENT
END:VCALENDAR