BEGIN:VCALENDAR
VERSION:2.0
PRODID:-//The Loom Shed - ECPv6.15.20//NONSGML v1.0//EN
CALSCALE:GREGORIAN
METHOD:PUBLISH
X-WR-CALNAME:The Loom Shed
X-ORIGINAL-URL:https://theloomshed.com
X-WR-CALDESC:Events for The Loom Shed
REFRESH-INTERVAL;VALUE=DURATION:PT1H
X-Robots-Tag:noindex
X-PUBLISHED-TTL:PT1H
BEGIN:VTIMEZONE
TZID:Europe/London
BEGIN:DAYLIGHT
TZOFFSETFROM:+0000
TZOFFSETTO:+0100
TZNAME:BST
DTSTART:20230326T010000
END:DAYLIGHT
BEGIN:STANDARD
TZOFFSETFROM:+0100
TZOFFSETTO:+0000
TZNAME:GMT
DTSTART:20231029T010000
END:STANDARD
BEGIN:DAYLIGHT
TZOFFSETFROM:+0000
TZOFFSETTO:+0100
TZNAME:BST
DTSTART:20240331T010000
END:DAYLIGHT
BEGIN:STANDARD
TZOFFSETFROM:+0100
TZOFFSETTO:+0000
TZNAME:GMT
DTSTART:20241027T010000
END:STANDARD
BEGIN:DAYLIGHT
TZOFFSETFROM:+0000
TZOFFSETTO:+0100
TZNAME:BST
DTSTART:20250330T010000
END:DAYLIGHT
BEGIN:STANDARD
TZOFFSETFROM:+0100
TZOFFSETTO:+0000
TZNAME:GMT
DTSTART:20251026T010000
END:STANDARD
END:VTIMEZONE
BEGIN:VEVENT
DTSTART;TZID=Europe/London:20240417T190000
DTEND;TZID=Europe/London:20240417T200000
DTSTAMP:20260422T100512
CREATED:20240205T150248Z
LAST-MODIFIED:20240205T150248Z
UID:10000072-1713380400-1713384000@theloomshed.com
SUMMARY:Natalie in Stitches - Thinking outside the pattern: What if…?
DESCRIPTION:What if…you saw a knitting pattern you really liked – but wasn’t quite right for you in some way? \nHow would you feel about: \n\nChanging the yarn specified?\nChanging styling details like necklines?\nChanging colour combinations?\n\nSometimes knitters are hesitant about this\, feeling that they should knit up the pattern ‘as the designer intended’.  Or\, you’ve seen the pattern – you like it as it is\, and you don’t want to have to think about changing anything – you just want to cast on and enjoy the knitting. \nBut…what if the original pattern isn’t quite right for you and your wardrobe – how you like to dress?  Do you knit the pattern anyway and hope it’ll be okay in the end?  Or do you make a tweak or two (or three) to get your jumper just right? \nOr maybe you’ve stashed some beautiful yarn\, waiting for the right pattern to come along…but it just hasn’t found its way onto your feed.  You keep an eye out for tried-and-tested favourites and new-to-you designers\, just in case they release your dream pattern.  It will happen\, because there are so many talented people designing knitwear\, and new patterns come out all the time\, don’t they?  You’ll find what you want.  Someday.  You just have to keep looking. \nWhat if…there was a way to knit together your stashed yarn and nearly-there patterns?  One that gives you permission to make and wear the knits you’ve always dreamed of? \nJoin The Loom Shed and Natalie in Stitches online for an evening of permission slips\, playing with yarn\, and taking you-sized liberties with patterns.
URL:https://theloomshed.com/calendar-event/natalie-in-stitches-thinking-outside-the-pattern-what-if/
LOCATION:The Loom Shed\, Sutton Barton\, Cullompton\, Devon\, EX15 1NF\, United Kingdom
CATEGORIES:Online Talk,Talks
END:VEVENT
END:VCALENDAR